BEGIN:VCALENDAR
VERSION:2.0
PRODID:-//Accuity - ECPv6.15.20//NONSGML v1.0//EN
CALSCALE:GREGORIAN
METHOD:PUBLISH
X-WR-CALNAME:Accuity
X-ORIGINAL-URL:https://accuityhealthcare.com
X-WR-CALDESC:Events for Accuity
REFRESH-INTERVAL;VALUE=DURATION:PT1H
X-Robots-Tag:noindex
X-PUBLISHED-TTL:PT1H
BEGIN:VTIMEZONE
TZID:America/New_York
BEGIN:DAYLIGHT
TZOFFSETFROM:-0500
TZOFFSETTO:-0400
TZNAME:EDT
DTSTART:20230312T070000
END:DAYLIGHT
BEGIN:STANDARD
TZOFFSETFROM:-0400
TZOFFSETTO:-0500
TZNAME:EST
DTSTART:20231105T060000
END:STANDARD
BEGIN:DAYLIGHT
TZOFFSETFROM:-0500
TZOFFSETTO:-0400
TZNAME:EDT
DTSTART:20240310T070000
END:DAYLIGHT
BEGIN:STANDARD
TZOFFSETFROM:-0400
TZOFFSETTO:-0500
TZNAME:EST
DTSTART:20241103T060000
END:STANDARD
BEGIN:DAYLIGHT
TZOFFSETFROM:-0500
TZOFFSETTO:-0400
TZNAME:EDT
DTSTART:20250309T070000
END:DAYLIGHT
BEGIN:STANDARD
TZOFFSETFROM:-0400
TZOFFSETTO:-0500
TZNAME:EST
DTSTART:20251102T060000
END:STANDARD
BEGIN:DAYLIGHT
TZOFFSETFROM:-0500
TZOFFSETTO:-0400
TZNAME:EDT
DTSTART:20260308T070000
END:DAYLIGHT
BEGIN:STANDARD
TZOFFSETFROM:-0400
TZOFFSETTO:-0500
TZNAME:EST
DTSTART:20261101T060000
END:STANDARD
END:VTIMEZONE
BEGIN:VEVENT
DTSTART;VALUE=DATE:20250130
DTEND;VALUE=DATE:20250201
DTSTAMP:20260423T071117
CREATED:20250116T145805Z
LAST-MODIFIED:20250116T145805Z
UID:2551-1738195200-1738367999@accuityhealthcare.com
SUMMARY:HFMA Massachusetts-Rhode Island Revenue Cycle Conference
DESCRIPTION:Visit Accuity at Booth 37
URL:https://accuityhealthcare.com/event/hfma-massachusetts-rhode-island-revenue-cycle-conference/
LOCATION:Gillette Stadium\, 1 Patriot Place\, Foxborough\, NJ\, 02035\, United States
END:VEVENT
BEGIN:VEVENT
DTSTART;VALUE=DATE:20250119
DTEND;VALUE=DATE:20250123
DTSTAMP:20260423T071117
CREATED:20240126T173948Z
LAST-MODIFIED:20241126T175815Z
UID:2297-1737244800-1737590399@accuityhealthcare.com
SUMMARY:HFMA 2025 Western Symposium
DESCRIPTION:Visit the Accuity team at booth 319. \nInterested in attending Accuity’s VIP event? Reach out to your Accuity contact for details.
URL:https://accuityhealthcare.com/event/hfma-2025-western-symposium/
LOCATION:Paris Las Vegas Hotel & Casino\, 3655 S Las Vegas Blvd\, Las Vegas\, NV\, 89109\, United States
END:VEVENT
BEGIN:VEVENT
DTSTART;VALUE=DATE:20241205
DTEND;VALUE=DATE:20241207
DTSTAMP:20260423T071117
CREATED:20240126T175046Z
LAST-MODIFIED:20241126T190532Z
UID:2303-1733356800-1733529599@accuityhealthcare.com
SUMMARY:HealthLeaders 2024 UpNext CFO Exchange
DESCRIPTION:Panel presentation led by Accuity Chief Operating Officer\, Trevor Snow: People First: Getting Staff to Buy into RCM Solution Implementation \nThursday\, December 5\, 2024
URL:https://accuityhealthcare.com/event/healthleaders-2024-cfo-exhange/
LOCATION:Hutton Hotel\, 1808 West End Ave\, Nashville\, TN\, 37203\, United States
END:VEVENT
BEGIN:VEVENT
DTSTART;VALUE=DATE:20240408
DTEND;VALUE=DATE:20240412
DTSTAMP:20260423T071117
CREATED:20240126T174459Z
LAST-MODIFIED:20240126T210051Z
UID:2300-1712534400-1712879999@accuityhealthcare.com
SUMMARY:ACDIS
DESCRIPTION:
URL:https://accuityhealthcare.com/event/acdis/
LOCATION:JW Marriott Indianapolis\, 10 S West St\, Indianapolis\, IN\, 46204\, United States
END:VEVENT
END:VCALENDAR